BEGIN:VCALENDAR
VERSION:2.0
PRODID:-//Odoo//Event//EN
CALSCALE:GREGORIAN
METHOD:PUBLISH
BEGIN:VEVENT
UID:12696@ewomennetwork.com
DTSTAMP:20260423T155250Z
DTSTART:20260430T200000Z
DTEND:20260430T220000Z
SUMMARY:Strategic Online Business Introductions
DESCRIPTION:Event Name: Strategic Online Business Introductions\nOnline Link: I'm so glad you can join us!\n\nPlease contact Carol Johnson at 520-269-0565 with any questions.\n\nJoin Zoom Meeting\nhttps://zoom.us/j/93838178173?pwd=fQQKauZAgQ67DhQ9V8zHfEyUUiQfL8.1\n\nMeeting ID: 938 3817 8173\nPasscode: 603948
LOCATION:Online Event - Zoom
END:VEVENT
END:VCALENDAR
