BEGIN:VCALENDAR
VERSION:2.0
PRODID:-//Odoo//Event//EN
CALSCALE:GREGORIAN
METHOD:PUBLISH
BEGIN:VEVENT
UID:12684@ewomennetwork.com
DTSTAMP:20260420T155522Z
DTSTART:20261209T223000Z
DTEND:20261210T003000Z
SUMMARY:Accelerated In-Person Networking
DESCRIPTION:Event Name: Accelerated In-Person Networking
LOCATION:The Hollow at Manchester Country Club
END:VEVENT
END:VCALENDAR
