BEGIN:VCALENDAR
VERSION:2.0
PRODID:-//Odoo//Event//EN
CALSCALE:GREGORIAN
METHOD:PUBLISH
BEGIN:VEVENT
UID:12572@ewomennetwork.com
DTSTAMP:20260419T154707Z
DTSTART:20260519T160000Z
DTEND:20260519T180000Z
SUMMARY:Leading with HEART™
DESCRIPTION:Event Name: Leading with HEART™
LOCATION:Hilton Knoxville Airport
END:VEVENT
END:VCALENDAR
