BEGIN:VCALENDAR
VERSION:2.0
PRODID:-//Odoo//Event//EN
CALSCALE:GREGORIAN
METHOD:PUBLISH
BEGIN:VEVENT
UID:12118@ewomennetwork.com
DTSTAMP:20260422T165932Z
DTSTART:20260507T150000Z
DTEND:20260507T190000Z
SUMMARY:2026 Women's Success Summit - SHIFT: The CEO Advantage
DESCRIPTION:Event Name: 2026 Women's Success Summit - SHIFT: The CEO Advantage
LOCATION:Maggiano's Little Italy
END:VEVENT
END:VCALENDAR
