BEGIN:VCALENDAR
VERSION:2.0
PRODID:-//Odoo//Event//EN
CALSCALE:GREGORIAN
METHOD:PUBLISH
BEGIN:VEVENT
UID:11995@ewomennetwork.com
DTSTAMP:20260423T042529Z
DTSTART:20260514T160000Z
DTEND:20260514T180000Z
SUMMARY:Strategic Online Business Introductions
DESCRIPTION:Event Name: Strategic Online Business Introductions\nOnline Link: https://us06web.zoom.us/j/83630676247?pwd=wqKXWo8tjIm0BT22ER0borOaaqaYMN.1
LOCATION:Online Event - Zoom
END:VEVENT
END:VCALENDAR
